BEGIN:VCALENDAR
VERSION:2.0
PRODID:-//Squarespace Inc/Squarespace 6//v6//EN
BEGIN:VEVENT
UID:53f34955e4b0d264691fcb7e@squarespace.com
DTSTAMP:20140819T125553Z
DTSTART:20140820T130000Z
DTEND:20140820T140000Z
SUMMARY:test
END:VEVENT
END:VCALENDAR
